BEGIN:VCALENDAR
VERSION:2.0
PRODID:-//Squarespace Inc/Squarespace 6//v6//EN
BEGIN:VEVENT
UID:5bbc14f9f9619adf89540f6a@squarespace.com
DTSTAMP:20181009T025644Z
DTSTART:20181017T060000Z
DTEND:20181017T073000Z
SUMMARY:Parents Evening 
GEO:-37.447059;175.956892
LOCATION:Athenree Montessori\, 101 Athenree Road\, Athenree\, Bay Of Plenty
 \, 3177\, New Zealand
END:VEVENT
END:VCALENDAR
