BEGIN:VCALENDAR
VERSION:2.0
PRODID:-//Squarespace Inc/Squarespace 6//v6//EN
BEGIN:VEVENT
UID:5dc9e1859b065c7fec0e1d0b@squarespace.com
DTSTAMP:20191111T223951Z
DTSTART:20191122T023000Z
DTEND:20191122T083000Z
SUMMARY:Childrens christmas party
END:VEVENT
END:VCALENDAR
