BEGIN:VCALENDAR
VERSION:2.0
PRODID:-//Squarespace Inc/Squarespace 6//v6//EN
BEGIN:VEVENT
UID:5be4eea76d2a737839e476b4@squarespace.com
DTSTAMP:20181109T022251Z
DTSTART:20181202T020000Z
DTEND:20181202T060000Z
SUMMARY:End of Year Family Beach BBQ
GEO:-37.445164;175.962276
LOCATION:At the playground\, Athenree\, Bay Of Plenty\, 3177\, New Zealand
END:VEVENT
END:VCALENDAR
